Workbook

Sheet 修订记录
B3: 项目进度数据分析模板
B5: 项目名称: | C5: 飞泉项目管理原创项目
B6: 日期: | C6: 42138 | D6: 版本: | E6: V1.00
B7: 编写人: | C7: 杨泉
B8: 所有者: | C8: 飞泉项目管理
B9: 客户: | C9: 项目管理实践者
B10: 联系方式: | C10: 邮箱 yq_work@163.com
B12: 修订历史
E13: 下次版本发布日期： | F13: 2016/6/31
B14: 修订日期 | C14: 上次修订日期 | D14: 修订记录 | F14: 修订人
B15: 42504 | C15: 无 | D15: 创建模板 | F15: 杨泉
B19: 批准
B20: 此文档要得到以下批准，并保存一份签字版在项目文件中。
B21: 姓名 | C21: 签名 | D21: 职位 | E21: 批准日期 | F21: 版本
B22: 杨泉 | C22: 杨泉 | D22: 团队主管 | E22: 42504 | F22: V1.00
B26: 分发
B27: 此文档要分发给以下人：
B28: 姓名 | D28: 职位 | E28: 分发日期 | F28: 版本
B29: 项目管理实践者、学习者、爱好者 | D29: 无 | E29: 42504 | F29: V1.00

Sheet 基本信息
B2: 项目管理实践书籍编制项目
B3: 组建5人的项目管理专家团队，编写一本项目管理实践落地的书籍，指导项目管理人员进行实际的项目管理工作。
B5: 一、项目基本信息
B6: 项目时间 | C6: 基本定义 | D6: 说明
B7: 项目开始 | C7: 42433 | D7: 启动会议的时间
B8: 项目结束 | C8: 42545 | D8: 书籍最终稿的提交时间
B9: 项目工期 | C9: =C8-C7 -> 112 | D9: 力争100天完成书籍编写，12天作为预算，防止意外
B10: 项目预算 | C10: 168000 | D10: 项目预算主要是人力成本，300元/人天*112天*5人
B11: 检查周期 | C11: 7 | D11: 每周五，检查工作，汇总进展和成本
B12: 检查次数 | C12: =IFERROR(TRUNC(C9/C11+1,0),0) -> 17 | D12: 将持续17周
B14: 二、交付物类型
A15: =ROW() -> 15 | B15: 序号 | C15: 交付物类别 | D15: 说明
B16: =IF(C16="","",ROW()-$A$15) -> 1 | C16: 章节编写 | D16: 书籍主要章节编写
B17: =IF(C17="","",ROW()-$A$15) -> 2 | C17: 案例编写 | D17: 参考案例的编写
B18: =IF(C18="","",ROW()-$A$15) -> 3 | C18: 引用资料 | D18: 引用资料的查找和整理
B19: =IF(C19="","",ROW()-$A$15)
B20: =IF(C20="","",ROW()-$A$15)
B22: 三、交付物状态
A23: =ROW() -> 23 | B23: 序号 | C23: 交付物状态 | D23: 对应进度 | E23: 说明
B24: =IF(C24="","",ROW()-$A$23) -> 1 | C24: - | D24: 0 | E24: 未开始，进展标识为0
B25: =IF(C25="","",ROW()-$A$23) -> 2 | C25: 需求 | D25: 0.1 | E25: 需求讨论，完成后标识为10%
B26: =IF(C26="","",ROW()-$A$23) -> 3 | C26: 设计 | D26: 0.2 | E26: 内容设计，完成后标识为20%
B27: =IF(C27="","",ROW()-$A$23) -> 4 | C27: 交付 | D27: 0.6 | E27: 内容交付，完成后标识为60%
B28: =IF(C28="","",ROW()-$A$23) -> 5 | C28: 确认 | D28: 1 | E28: 内容检查和确认，完成后标识为100%
B30: 四、负责人名单
A31: =ROW() -> 31 | B31: 序号 | C31: 负责人 | D31: 说明
B32: =IF(C32="","",ROW()-$A$31) -> 1 | C32: 张三 | D32: 项目负责人，负责综合章节编写
B33: =IF(C33="","",ROW()-$A$31) -> 2 | C33: 李四 | D33: 项目专家，负责进展方面章节编写
B34: =IF(C34="","",ROW()-$A$31) -> 3 | C34: 王五 | D34: 项目专家，负责成本方面章节编写
B35: =IF(C35="","",ROW()-$A$31) -> 4 | C35: 朱六 | D35: 项目专家，负责质量方面章节编写
B36: =IF(C36="","",ROW()-$A$31) -> 5 | C36: 陈七 | D36: 项目专家，负责风险方面章节编写

Sheet 进度跟踪
B1: 项目进度跟踪
A2: =ROW() -> 2 | B2: 序号 | C2: 类别 | D2: 交付物名称 | E2: 权重 | F2: 负责人 | G2: 1 | H2: =VLOOKUP(G2,进度分析!$B:$C,2,FALSE) -> 42433 | I2: 2 | J2: =VLOOKUP(I2,进度分析!$B:$C,2,FALSE) -> 42440 | K2: 3 | L2: =VLOOKUP(K2,进度分析!$B:$C,2,FALSE) -> 42447 | M2: 4 | N2: =VLOOKUP(M2,进度分析!$B:$C,2,FALSE) -> 42454 | O2: 5 | P2: =VLOOKUP(O2,进度分析!$B:$C,2,FALSE) -> 42461 | Q2: 6 | R2: =VLOOKUP(Q2,进度分析!$B:$C,2,FALSE) -> 42468 | S2: 7 | T2: =VLOOKUP(S2,进度分析!$B:$C,2,FALSE) -> 42475 | U2: 8 | V2: =VLOOKUP(U2,进度分析!$B:$C,2,FALSE) -> 42482 | W2: 复制最后2列，在此列前插入
B3: =IF(D3="","",ROW()-$A$2) -> 1 | C3: 章节编写 | D3: 概述章节 | E3: 3 | F3: 张三 | G3: - | H3: =VLOOKUP(G3,基本信息!$C$23:$D$28,2,FALSE) -> 0 | I3: 需求 | J3: =VLOOKUP(I3,基本信息!$C$23:$D$28,2,FALSE) -> 0.1 | K3: 设计 | L3: =VLOOKUP(K3,基本信息!$C$23:$D$28,2,FALSE) -> 0.2 | M3: 交付 | N3: =VLOOKUP(M3,基本信息!$C$23:$D$28,2,FALSE) -> 0.6 | O3: 交付 | P3: =VLOOKUP(O3,基本信息!$C$23:$D$28,2,FALSE) -> 0.6 | Q3: 交付 | R3: =VLOOKUP(Q3,基本信息!$C$23:$D$28,2,FALSE) -> 0.6 | S3: 交付 | T3: =VLOOKUP(S3,基本信息!$C$23:$D$28,2,FALSE) -> 0.6 | U3: 确认 | V3: =VLOOKUP(U3,基本信息!$C$23:$D$28,2,FALSE) -> 1
B4: =IF(D4="","",ROW()-$A$2) -> 2 | C4: 章节编写 | D4: 项目整体管理章节 | E4: 4 | F4: 张三 | G4: - | H4: =VLOOKUP(G4,基本信息!$C$23:$D$28,2,FALSE) -> 0 | I4: 需求 | J4: =VLOOKUP(I4,基本信息!$C$23:$D$28,2,FALSE) -> 0.1 | K4: 设计 | L4: =VLOOKUP(K4,基本信息!$C$23:$D$28,2,FALSE) -> 0.2 | M4: 设计 | N4: =VLOOKUP(M4,基本信息!$C$23:$D$28,2,FALSE) -> 0.2 | O4: 交付 | P4: =VLOOKUP(O4,基本信息!$C$23:$D$28,2,FALSE) -> 0.6 | Q4: 交付 | R4: =VLOOKUP(Q4,基本信息!$C$23:$D$28,2,FALSE) -> 0.6 | S4: 交付 | T4: =VLOOKUP(S4,基本信息!$C$23:$D$28,2,FALSE) -> 0.6 | U4: 交付 | V4: =VLOOKUP(U4,基本信息!$C$23:$D$28,2,FALSE) -> 0.6
B5: =IF(D5="","",ROW()-$A$2) -> 3 | C5: 章节编写 | D5: 项目进展规划章节 | E5: 5 | F5: 李四 | G5: - | H5: =VLOOKUP(G5,基本信息!$C$23:$D$28,2,FALSE) -> 0 | I5: 需求 | J5: =VLOOKUP(I5,基本信息!$C$23:$D$28,2,FALSE) -> 0.1 | K5: 需求 | L5: =VLOOKUP(K5,基本信息!$C$23:$D$28,2,FALSE) -> 0.1 | M5: 设计 | N5: =VLOOKUP(M5,基本信息!$C$23:$D$28,2,FALSE) -> 0.2 | O5: 设计 | P5: =VLOOKUP(O5,基本信息!$C$23:$D$28,2,FALSE) -> 0.2 | Q5: 设计 | R5: =VLOOKUP(Q5,基本信息!$C$23:$D$28,2,FALSE) -> 0.2 | S5: 交付 | T5: =VLOOKUP(S5,基本信息!$C$23:$D$28,2,FALSE) -> 0.6 | U5: 交付 | V5: =VLOOKUP(U5,基本信息!$C$23:$D$28,2,FALSE) -> 0.6
B6: =IF(D6="","",ROW()-$A$2) -> 4 | C6: 章节编写 | D6: 项目进展监控章节 | E6: 5 | F6: 李四 | G6: - | H6: =VLOOKUP(G6,基本信息!$C$23:$D$28,2,FALSE) -> 0 | I6: 需求 | J6: =VLOOKUP(I6,基本信息!$C$23:$D$28,2,FALSE) -> 0.1 | K6: 需求 | L6: =VLOOKUP(K6,基本信息!$C$23:$D$28,2,FALSE) -> 0.1 | M6: 需求 | N6: =VLOOKUP(M6,基本信息!$C$23:$D$28,2,FALSE) -> 0.1 | O6: 需求 | P6: =VLOOKUP(O6,基本信息!$C$23:$D$28,2,FALSE) -> 0.1 | Q6: 设计 | R6: =VLOOKUP(Q6,基本信息!$C$23:$D$28,2,FALSE) -> 0.2 | S6: 设计 | T6: =VLOOKUP(S6,基本信息!$C$23:$D$28,2,FALSE) -> 0.2 | U6: 设计 | V6: =VLOOKUP(U6,基本信息!$C$23:$D$28,2,FALSE) -> 0.2
B7: =IF(D7="","",ROW()-$A$2) -> 5 | C7: 章节编写 | D7: 项目成本规划章节 | E7: 5 | F7: 王五 | G7: - | H7: =VLOOKUP(G7,基本信息!$C$23:$D$28,2,FALSE) -> 0 | I7: 需求 | J7: =VLOOKUP(I7,基本信息!$C$23:$D$28,2,FALSE) -> 0.1 | K7: 需求 | L7: =VLOOKUP(K7,基本信息!$C$23:$D$28,2,FALSE) -> 0.1 | M7: 设计 | N7: =VLOOKUP(M7,基本信息!$C$23:$D$28,2,FALSE) -> 0.2 | O7: 设计 | P7: =VLOOKUP(O7,基本信息!$C$23:$D$28,2,FALSE) -> 0.2 | Q7: 需求 | R7: =VLOOKUP(Q7,基本信息!$C$23:$D$28,2,FALSE) -> 0.1 | S7: 需求 | T7: =VLOOKUP(S7,基本信息!$C$23:$D$28,2,FALSE) -> 0.1 | U7: 需求 | V7: =VLOOKUP(U7,基本信息!$C$23:$D$28,2,FALSE) -> 0.1
B8: =IF(D8="","",ROW()-$A$2) -> 6 | C8: 章节编写 | D8: 项目成本监控章节 | E8: 5 | F8: 王五 | G8: - | H8: =VLOOKUP(G8,基本信息!$C$23:$D$28,2,FALSE) -> 0 | I8: 需求 | J8: =VLOOKUP(I8,基本信息!$C$23:$D$28,2,FALSE) -> 0.1 | K8: 需求 | L8: =VLOOKUP(K8,基本信息!$C$23:$D$28,2,FALSE) -> 0.1 | M8: 需求 | N8: =VLOOKUP(M8,基本信息!$C$23:$D$28,2,FALSE) -> 0.1 | O8: 需求 | P8: =VLOOKUP(O8,基本信息!$C$23:$D$28,2,FALSE) -> 0.1 | Q8: 需求 | R8: =VLOOKUP(Q8,基本信息!$C$23:$D$28,2,FALSE) -> 0.1 | S8: 需求 | T8: =VLOOKUP(S8,基本信息!$C$23:$D$28,2,FALSE) -> 0.1 | U8: 需求 | V8: =VLOOKUP(U8,基本信息!$C$23:$D$28,2,FALSE) -> 0.1
B9: =IF(D9="","",ROW()-$A$2) -> 7 | C9: 章节编写 | D9: 项目质量规划章节 | E9: 6 | F9: 朱六 | G9: - | H9: =VLOOKUP(G9,基本信息!$C$23:$D$28,2,FALSE) -> 0 | I9: 需求 | J9: =VLOOKUP(I9,基本信息!$C$23:$D$28,2,FALSE) -> 0.1 | K9: 需求 | L9: =VLOOKUP(K9,基本信息!$C$23:$D$28,2,FALSE) -> 0.1 | M9: 需求 | N9: =VLOOKUP(M9,基本信息!$C$23:$D$28,2,FALSE) -> 0.1 | O9: 需求 | P9: =VLOOKUP(O9,基本信息!$C$23:$D$28,2,FALSE) -> 0.1 | Q9: - | R9: =VLOOKUP(Q9,基本信息!$C$23:$D$28,2,FALSE) -> 0 | S9: - | T9: =VLOOKUP(S9,基本信息!$C$23:$D$28,2,FALSE) -> 0 | U9: - | V9: =VLOOKUP(U9,基本信息!$C$23:$D$28,2,FALSE) -> 0
B10: =IF(D10="","",ROW()-$A$2) -> 8 | C10: 章节编写 | D10: 项目质量监控章节 | E10: 6 | F10: 朱六 | G10: - | H10: =VLOOKUP(G10,基本信息!$C$23:$D$28,2,FALSE) -> 0 | I10: 需求 | J10: =VLOOKUP(I10,基本信息!$C$23:$D$28,2,FALSE) -> 0.1 | K10: 设计 | L10: =VLOOKUP(K10,基本信息!$C$23:$D$28,2,FALSE) -> 0.2 | M10: 交付 | N10: =VLOOKUP(M10,基本信息!$C$23:$D$28,2,FALSE) -> 0.6 | O10: 交付 | P10: =VLOOKUP(O10,基本信息!$C$23:$D$28,2,FALSE) -> 0.6 | Q10: 交付 | R10: =VLOOKUP(Q10,基本信息!$C$23:$D$28,2,FALSE) -> 0.6 | S10: 交付 | T10: =VLOOKUP(S10,基本信息!$C$23:$D$28,2,FALSE) -> 0.6 | U10: 交付 | V10: =VLOOKUP(U10,基本信息!$C$23:$D$28,2,FALSE) -> 0.6
B11: =IF(D11="","",ROW()-$A$2) -> 9 | C11: 章节编写 | D11: 项目风险规划章节 | E11: 6 | F11: 陈七 | G11: - | H11: =VLOOKUP(G11,基本信息!$C$23:$D$28,2,FALSE) -> 0 | I11: 需求 | J11: =VLOOKUP(I11,基本信息!$C$23:$D$28,2,FALSE) -> 0.1 | K11: 交付 | L11: =VLOOKUP(K11,基本信息!$C$23:$D$28,2,FALSE) -> 0.6 | M11: 交付 | N11: =VLOOKUP(M11,基本信息!$C$23:$D$28,2,FALSE) -> 0.6 | O11: 交付 | P11: =VLOOKUP(O11,基本信息!$C$23:$D$28,2,FALSE) -> 0.6 | Q11: 设计 | R11: =VLOOKUP(Q11,基本信息!$C$23:$D$28,2,FALSE) -> 0.2 | S11: 设计 | T11: =VLOOKUP(S11,基本信息!$C$23:$D$28,2,FALSE) -> 0.2 | U11: 交付 | V11: =VLOOKUP(U11,基本信息!$C$23:$D$28,2,FALSE) -> 0.6
B12: =IF(D12="","",ROW()-$A$2) -> 10 | C12: 章节编写 | D12: 项目风险监控章节 | E12: 6 | F12: 陈七 | G12: - | H12: =VLOOKUP(G12,基本信息!$C$23:$D$28,2,FALSE) -> 0 | I12: 需求 | J12: =VLOOKUP(I12,基本信息!$C$23:$D$28,2,FALSE) -> 0.1 | K12: 设计 | L12: =VLOOKUP(K12,基本信息!$C$23:$D$28,2,FALSE) -> 0.2 | M12: 设计 | N12: =VLOOKUP(M12,基本信息!$C$23:$D$28,2,FALSE) -> 0.2 | O12: 交付 | P12: =VLOOKUP(O12,基本信息!$C$23:$D$28,2,FALSE) -> 0.6 | Q12: 需求 | R12: =VLOOKUP(Q12,基本信息!$C$23:$D$28,2,FALSE) -> 0.1 | S12: 需求 | T12: =VLOOKUP(S12,基本信息!$C$23:$D$28,2,FALSE) -> 0.1 | U12: 需求 | V12: =VLOOKUP(U12,基本信息!$C$23:$D$28,2,FALSE) -> 0.1
B13: =IF(D13="","",ROW()-$A$2) -> 11 | C13: 案例编写 | D13: 项目进展案例 | E13: 8 | F13: 李四 | G13: - | H13: =VLOOKUP(G13,基本信息!$C$23:$D$28,2,FALSE) -> 0 | I13: - | J13: =VLOOKUP(I13,基本信息!$C$23:$D$28,2,FALSE) -> 0 | K13: - | L13: =VLOOKUP(K13,基本信息!$C$23:$D$28,2,FALSE) -> 0 | M13: - | N13: =VLOOKUP(M13,基本信息!$C$23:$D$28,2,FALSE) -> 0 | O13: - | P13: =VLOOKUP(O13,基本信息!$C$23:$D$28,2,FALSE) -> 0 | Q13: 需求 | R13: =VLOOKUP(Q13,基本信息!$C$23:$D$28,2,FALSE) -> 0.1 | S13: 需求 | T13: =VLOOKUP(S13,基本信息!$C$23:$D$28,2,FALSE) -> 0.1 | U13: 需求 | V13: =VLOOKUP(U13,基本信息!$C$23:$D$28,2,FALSE) -> 0.1
B14: =IF(D14="","",ROW()-$A$2) -> 12 | C14: 案例编写 | D14: 项目成本案例 | E14: 8 | F14: 王五 | G14: - | H14: =VLOOKUP(G14,基本信息!$C$23:$D$28,2,FALSE) -> 0 | I14: - | J14: =VLOOKUP(I14,基本信息!$C$23:$D$28,2,FALSE) -> 0 | K14: - | L14: =VLOOKUP(K14,基本信息!$C$23:$D$28,2,FALSE) -> 0 | M14: - | N14: =VLOOKUP(M14,基本信息!$C$23:$D$28,2,FALSE) -> 0 | O14: - | P14: =VLOOKUP(O14,基本信息!$C$23:$D$28,2,FALSE) -> 0 | Q14: - | R14: =VLOOKUP(Q14,基本信息!$C$23:$D$28,2,FALSE) -> 0 | S14: 需求 | T14: =VLOOKUP(S14,基本信息!$C$23:$D$28,2,FALSE) -> 0.1 | U14: 需求 | V14: =VLOOKUP(U14,基本信息!$C$23:$D$28,2,FALSE) -> 0.1
... B17: =IF(D17="","",ROW()-$A$2) -> 15 | C17: 引用资料 | D17: 项目挣值方法引用 | E17: 5 | F17: 张三 | G17: - | H17: =VLOOKUP(G17,基本信息!$C$23:$D$28,2,FALSE) -> 0 | I17: - | J17: =VLOOKUP(I17,基本信息!$C$23:$D$28,2,FALSE) -> 0 | K17: - | L17: =VLOOKUP(K17,基本信息!$C$23:$D$28,2,FALSE) -> 0 | M17: - | N17: =VLOOKUP(M17,基本信息!$C$23:$D$28,2,FALSE) -> 0 | O17: - | P17: =VLOOKUP(O17,基本信息!$C$23:$D$28,2,FALSE) -> 0 | Q17: 需求 | R17: =VLOOKUP(Q17,基本信息!$C$23:$D$28,2,FALSE) -> 0.1 | S17: 需求 | T17: =VLOOKUP(S17,基本信息!$C$23:$D$28,2,FALSE) -> 0.1 | U17: 需求 | V17: =VLOOKUP(U17,基本信息!$C$23:$D$28,2,FALSE) -> 0.1
B18: 在此之前插入新一行 | E18: =SUM(E3:E17) -> 90 | G18: =SUMPRODUCT($E$3:$E$17*H3:H17)/$E$18 -> 0 | I18: =SUMPRODUCT($E$3:$E$17*J3:J17)/$E$18 -> 0.056666667 | K18: =SUMPRODUCT($E$3:$E$17*L3:L17)/$E$18 -> 0.11111111 | M18: =SUMPRODUCT($E$3:$E$17*N3:N17)/$E$18 -> 0.16222222 | O18: =SUMPRODUCT($E$3:$E$17*P3:P17)/$E$18 -> 0.20666667 | Q18: =SUMPRODUCT($E$3:$E$17*R3:R17)/$E$18 -> 0.19444444 | S18: =SUMPRODUCT($E$3:$E$17*T3:T17)/$E$18 -> 0.22555556 | U18: =SUMPRODUCT($E$3:$E$17*V3:V17)/$E$18 -> 0.26555556
B19: =IF(D19="","",ROW()-1)

Sheet 进度分析
B1: 项目进度分析
A2: =ROW() -> 2 | B2: 检查周数 | C2: 检查日期 | D2: PV% | E2: EV% | F2: AC% | G2: 项目 实际成本
B3: =IF(C3="","",ROW()-$A$2) -> 1 | C3: =IF(基本信息!$C$7="","",基本信息!$C$7) -> 42433 | D3: 0 | E3: 0 | F3: =IF(G3="","",G3/基本信息!$C$10) -> 0 | G3: 0
B4: =IF((ROW()-$A$2)>基本信息!$C$12,"",ROW()-$A$2) -> 2 | C4: =IF(B4="","",IF((C3+基本信息!$C$11)>基本信息!$C$8,基本信息!$C$8,C3+基本信息!$C$11)) -> 42440 | D4: =(C4-$C$3)/基本信息!$C$9 -> 0.0625 | E4: =IF(ISNA(HLOOKUP(进度分析!$B4,进度跟踪!$G$2:$V$23,17,FALSE)),"",HLOOKUP(进度分析!$B4,进度跟踪!$G$2:$V$23,17,FALSE)) -> 0.056666667 | F4: =IF(G4="","",G4/基本信息!$C$10) -> 0.029761905 | G4: 5000
B5: =IF((ROW()-$A$2)>基本信息!$C$12,"",ROW()-$A$2) -> 3 | C5: =IF(B5="","",IF((C4+基本信息!$C$11)>基本信息!$C$8,基本信息!$C$8,C4+基本信息!$C$11)) -> 42447 | D5: =(C5-$C$3)/基本信息!$C$9 -> 0.125 | E5: =IF(ISNA(HLOOKUP(进度分析!$B5,进度跟踪!$G$2:$V$23,17,FALSE)),"",HLOOKUP(进度分析!$B5,进度跟踪!$G$2:$V$23,17,FALSE)) -> 0.11111111 | F5: =IF(G5="","",G5/基本信息!$C$10) -> 0.053571429 | G5: 9000
B6: =IF((ROW()-$A$2)>基本信息!$C$12,"",ROW()-$A$2) -> 4 | C6: =IF(B6="","",IF((C5+基本信息!$C$11)>基本信息!$C$8,基本信息!$C$8,C5+基本信息!$C$11)) -> 42454 | D6: =(C6-$C$3)/基本信息!$C$9 -> 0.1875 | E6: =IF(ISNA(HLOOKUP(进度分析!$B6,进度跟踪!$G$2:$V$23,17,FALSE)),"",HLOOKUP(进度分析!$B6,进度跟踪!$G$2:$V$23,17,FALSE)) -> 0.16222222 | F6: =IF(G6="","",G6/基本信息!$C$10) -> 0.083333333 | G6: 14000
B7: =IF((ROW()-$A$2)>基本信息!$C$12,"",ROW()-$A$2) -> 5 | C7: =IF(B7="","",IF((C6+基本信息!$C$11)>基本信息!$C$8,基本信息!$C$8,C6+基本信息!$C$11)) -> 42461 | D7: =(C7-$C$3)/基本信息!$C$9 -> 0.25 | E7: =IF(ISNA(HLOOKUP(进度分析!$B7,进度跟踪!$G$2:$V$23,17,FALSE)),"",HLOOKUP(进度分析!$B7,进度跟踪!$G$2:$V$23,17,FALSE)) -> 0.20666667 | F7: =IF(G7="","",G7/基本信息!$C$10) -> 0.10714286 | G7: 18000
B8: =IF((ROW()-$A$2)>基本信息!$C$12,"",ROW()-$A$2) -> 6 | C8: =IF(B8="","",IF((C7+基本信息!$C$11)>基本信息!$C$8,基本信息!$C$8,C7+基本信息!$C$11)) -> 42468 | D8: =(C8-$C$3)/基本信息!$C$9 -> 0.3125 | E8: =IF(ISNA(HLOOKUP(进度分析!$B8,进度跟踪!$G$2:$V$23,17,FALSE)),"",HLOOKUP(进度分析!$B8,进度跟踪!$G$2:$V$23,17,FALSE)) -> 0.19444444 | F8: =IF(G8="","",G8/基本信息!$C$10) -> 0.11309524 | G8: 19000
B9: =IF((ROW()-$A$2)>基本信息!$C$12,"",ROW()-$A$2) -> 7 | C9: =IF(B9="","",IF((C8+基本信息!$C$11)>基本信息!$C$8,基本信息!$C$8,C8+基本信息!$C$11)) -> 42475 | D9: =(C9-$C$3)/基本信息!$C$9 -> 0.375 | E9: =IF(ISNA(HLOOKUP(进度分析!$B9,进度跟踪!$G$2:$V$23,17,FALSE)),"",HLOOKUP(进度分析!$B9,进度跟踪!$G$2:$V$23,17,FALSE)) -> 0.22555556 | F9: =IF(G9="","",G9/基本信息!$C$10) -> 0.13095238 | G9: 22000
B10: =IF((ROW()-$A$2)>基本信息!$C$12,"",ROW()-$A$2) -> 8 | C10: =IF(B10="","",IF((C9+基本信息!$C$11)>基本信息!$C$8,基本信息!$C$8,C9+基本信息!$C$11)) -> 42482 | D10: =(C10-$C$3)/基本信息!$C$9 -> 0.4375 | E10: =IF(ISNA(HLOOKUP(进度分析!$B10,进度跟踪!$G$2:$V$23,17,FALSE)),"",HLOOKUP(进度分析!$B10,进度跟踪!$G$2:$V$23,17,FALSE)) -> 0.26555556 | F10: =IF(G10="","",G10/基本信息!$C$10) -> 0.14880952 | G10: 25000
B11: =IF((ROW()-$A$2)>基本信息!$C$12,"",ROW()-$A$2) -> 9 | C11: =IF(B11="","",IF((C10+基本信息!$C$11)>基本信息!$C$8,基本信息!$C$8,C10+基本信息!$C$11)) -> 42489 | D11: =(C11-$C$3)/基本信息!$C$9 -> 0.5
B12: =IF((ROW()-$A$2)>基本信息!$C$12,"",ROW()-$A$2) -> 10 | C12: =IF(B12="","",IF((C11+基本信息!$C$11)>基本信息!$C$8,基本信息!$C$8,C11+基本信息!$C$11)) -> 42496 | D12: =(C12-$C$3)/基本信息!$C$9 -> 0.5625
B13: =IF((ROW()-$A$2)>基本信息!$C$12,"",ROW()-$A$2) -> 11 | C13: =IF(B13="","",IF((C12+基本信息!$C$11)>基本信息!$C$8,基本信息!$C$8,C12+基本信息!$C$11)) -> 42503 | D13: =(C13-$C$3)/基本信息!$C$9 -> 0.625
B14: =IF((ROW()-$A$2)>基本信息!$C$12,"",ROW()-$A$2) -> 12 | C14: =IF(B14="","",IF((C13+基本信息!$C$11)>基本信息!$C$8,基本信息!$C$8,C13+基本信息!$C$11)) -> 42510 | D14: =(C14-$C$3)/基本信息!$C$9 -> 0.6875
B15: =IF((ROW()-$A$2)>基本信息!$C$12,"",ROW()-$A$2) -> 13 | C15: =IF(B15="","",IF((C14+基本信息!$C$11)>基本信息!$C$8,基本信息!$C$8,C14+基本信息!$C$11)) -> 42517 | D15: =(C15-$C$3)/基本信息!$C$9 -> 0.75
B16: =IF((ROW()-$A$2)>基本信息!$C$12,"",ROW()-$A$2) -> 14 | C16: =IF(B16="","",IF((C15+基本信息!$C$11)>基本信息!$C$8,基本信息!$C$8,C15+基本信息!$C$11)) -> 42524 | D16: =(C16-$C$3)/基本信息!$C$9 -> 0.8125
B17: =IF((ROW()-$A$2)>基本信息!$C$12,"",ROW()-$A$2) -> 15 | C17: =IF(B17="","",IF((C16+基本信息!$C$11)>基本信息!$C$8,基本信息!$C$8,C16+基本信息!$C$11)) -> 42531 | D17: =(C17-$C$3)/基本信息!$C$9 -> 0.875
B18: =IF((ROW()-$A$2)>基本信息!$C$12,"",ROW()-$A$2) -> 16 | C18: =IF(B18="","",IF((C17+基本信息!$C$11)>基本信息!$C$8,基本信息!$C$8,C17+基本信息!$C$11)) -> 42538 | D18: =(C18-$C$3)/基本信息!$C$9 -> 0.9375
B19: =IF((ROW()-$A$2)>基本信息!$C$12,"",ROW()-$A$2) -> 17 | C19: =IF(B19="","",IF((C18+基本信息!$C$11)>基本信息!$C$8,基本信息!$C$8,C18+基本信息!$C$11)) -> 42545 | D19: =(C19-$C$3)/基本信息!$C$9 -> 1
B20: 在此之前插入新一行，增加检查周期
I22: 项目状态分析
I23: =基本信息!B2 -> 项目管理实践书籍编制项目
I24: 检查周数 | J24: PV% | K24: EV% | L24: AC%
I25: ="第"&TEXT(MATCH(MAX(E3:E20),E3:E20,0),"00")&"周" -> 第08周 | J25: =INDEX(D3:F20,MATCH(MAX(E3:E20),E3:E20,0),1) -> 0.4375 | K25: =INDEX(D3:F20,MATCH(MAX(E3:E20),E3:E20,0),2) -> 0.26555556 | L25: =INDEX(D3:F20,MATCH(MAX(E3:E20),E3:E20,0),3) -> 0.14880952
I26: 项目维度 | J26: 状态 | K26: 偏差
I27: 进度 | J27: =IF(K25>J25,"提前",IF(K25<J25,"延迟","正常")) -> 延迟 | K27: =K25-J25 -> -0.17194444
I28: 成本 | J28: =IF(K25>L25,"结余",IF(K25<L25,"超支","正常")) -> 结余 | K28: =K25-L25 -> 0.11674603
I29: 项目 | J29: =IF(AND(J27="延迟",J28="超支"),"报警",IF(OR(J27="延迟",J28="超支"),"预警","正常")) -> 预警
I30: 项目状态总结
I31: =I23&" "&I25&" "&I27&J27&" "&I28&J28&" "&I29&J29 -> 项目管理实践书籍编制项目 第08周 进度延迟 成本结余 项目预警

Sheet 操作手册
B1: 项目进度数据分析模板-操作手册
B4: 一、目的
C5: 1、协助项目负责人，利用项目进展和成本数据，科学地、结构化地进行项目进度和成本的跟踪管理。
B7: 二、作用
C8: 1、编制项目基本信息，包括：项目的计划开始和结束日期，项目总预算，用于项目进度和成本的监督。
C9: 2、记录项目进度成本，根据项目的实际进展和成本，进行详细记录。
C10: 3、图示项目当前状态，自动生成项目进展和成本的图形，了解项目当前状态，方便可视化管理，提高监督效率。
C11: 4、实例操作步骤演示，使用了一个项目例子，来演示整个操作过程及步骤。
B13: 三、名词解释
C14: 1、PV，计划值，用于说明项目按时间的计划完成情况。
C15: 2、EV，挣值，用于说明项目实际按计划值的完成情况。
C16: 3、AC，实际成本，用于说明项目实际的成本使用情况。
C17: 4、%，百分比，把数值用百分比来形式来展现。
B19: 四、项目规划阶段
C20: 1、功能
D21: 1）进行项目的整体规划，包括项目进度、成本、交付物和负责人。
C22: 2、操作步骤
D23: 1）编制项目简介，填写项目名称和项目简介。
D25: 2）规划项目基本信息，填写项目开始和结束日期、总预算及检查周期。
D27: 3）定义项目交付物，定义项目交付物的类型和进展状态。
D29: 4）整理项目人员名单，把参与项目的主要人员名单及职责整理成表格，方便查看。
D31: 5）分配项目交付物，把项目中主要成果分配给项目负责人，根据难度进行权重打分。
D33: 6）计划值推算，假设PV%曲线线性（直接用时间进度代替）。
C35: 3、注意事宜
D36: 1）必填内容，表格中蓝色单元格为必填的手工输入项，其它单元格为有公式自动填写或选择填写内容。
D38: 2）无需修改，项目基本信息的内容在项目规划阶段维护，在项目实施阶段时，无原因，不得修改。
B40: 五、项目实施阶段
C41: 1、功能
D42: 1）确认项目交付物的进展状态，根据项目交付物状态，汇总得知整体项目的进展状态。
D43: 2）汇总数据得到项目挣值的图形，了解项目实际的进展及当前状态，采取措施保证项目目标达成。
C44: 2、操作步骤
D45: 1）计算项目实际进展，填写本周交付物的状态，计算项目的进度百分比EV%，自动更新到项目进度分析表中，第一周进度EV%为0。
D47: 2）计划项目实际成本，在当前周，项目进度分析表中，填写项目实际成本，计算AC%。
D49: 3）项目进度分析，根据项目挣值图形自动判断出项目的当前进展和成本状态，了解项目状况。
D51: 4）循环计算项目实际进展和成本，每周把上一周进展状态的2列，复制到本周，再根据实际情况，选择交付物状态即可，重新前3步。
C53: 3、注意事宜
D54: 1）项目进度成本状态表，根据项目数据PV、EV、AC来判断项目状态，绿色正常，黄色预警，红色报警。
D55: 项目进度成本状态表
D56: 项目数据 | F56: 进度
F57: EV>PV | G57: EV=PV | H57: EV<PV
D58: 成本 | E58: EV>AC | F58: 进度提前 成本结余 | G58: 进度正常 成本结余 | H58: 进度延迟 成本结余
E59: EV=AC | F59: 进度提前 成本正常 | G59: 进度正常 成本正常 | H59: 进度延迟 成本正常
E60: EV<AC | F60: 进度提前 成本超支 | G60: 进度正常 成本超支 | H60: 进度延迟 成本超支
